BEGIN:VCALENDAR
VERSION:2.0
PRODID:-//Oliver Cromwell Gilbert - ECPv6.15.20//NONSGML v1.0//EN
CALSCALE:GREGORIAN
METHOD:PUBLISH
X-ORIGINAL-URL:https://ocgilbert.com
X-WR-CALDESC:Events for Oliver Cromwell Gilbert
REFRESH-INTERVAL;VALUE=DURATION:PT1H
X-Robots-Tag:noindex
X-PUBLISHED-TTL:PT1H
BEGIN:VTIMEZONE
TZID:America/New_York
BEGIN:DAYLIGHT
TZOFFSETFROM:-0500
TZOFFSETTO:-0400
TZNAME:EDT
DTSTART:20210314T070000
END:DAYLIGHT
BEGIN:STANDARD
TZOFFSETFROM:-0400
TZOFFSETTO:-0500
TZNAME:EST
DTSTART:20211107T060000
END:STANDARD
BEGIN:DAYLIGHT
TZOFFSETFROM:-0500
TZOFFSETTO:-0400
TZNAME:EDT
DTSTART:20220313T070000
END:DAYLIGHT
BEGIN:STANDARD
TZOFFSETFROM:-0400
TZOFFSETTO:-0500
TZNAME:EST
DTSTART:20221106T060000
END:STANDARD
BEGIN:DAYLIGHT
TZOFFSETFROM:-0500
TZOFFSETTO:-0400
TZNAME:EDT
DTSTART:20230312T070000
END:DAYLIGHT
BEGIN:STANDARD
TZOFFSETFROM:-0400
TZOFFSETTO:-0500
TZNAME:EST
DTSTART:20231105T060000
END:STANDARD
BEGIN:DAYLIGHT
TZOFFSETFROM:-0500
TZOFFSETTO:-0400
TZNAME:EDT
DTSTART:20240310T070000
END:DAYLIGHT
BEGIN:STANDARD
TZOFFSETFROM:-0400
TZOFFSETTO:-0500
TZNAME:EST
DTSTART:20241103T060000
END:STANDARD
END:VTIMEZONE
BEGIN:VEVENT
DTSTART;TZID=America/New_York:20230820T080000
DTEND;TZID=America/New_York:20230824T170000
DTSTAMP:20260424T141853
CREATED:20230805T114637Z
LAST-MODIFIED:20240325T010446Z
UID:280482-1692518400-1692896400@ocgilbert.com
SUMMARY:WALK WITH ME - 175th Anniversary of Oliver Gilbert's Dash for Liberty - We're Retracing His Steps
DESCRIPTION:Planned tracing of the footsteps of Oliver C. Gilbert and his ‘dash for liberty’ using the locations described in his autobiography.
URL:https://ocgilbert.com/event/walkwithme/
LOCATION:PA
ATTACH;FMTTYPE=image/jpeg:https://ocgilbert.com/wp-content/uploads/2023/08/IMG_3203-scaled.jpeg
END:VEVENT
BEGIN:VEVENT
DTSTART;VALUE=DATE:20230721
DTEND;VALUE=DATE:20230722
DTSTAMP:20260424T141853
CREATED:20230717T100045Z
LAST-MODIFIED:20230804T154249Z
UID:279947-1689897600-1689983999@ocgilbert.com
SUMMARY:Silver Jubilee Celebration of the UGRR Network to Freedom
DESCRIPTION:Since its birth by Congressional mandate on July 21\, 1998\, the National Underground Network to Freedom has grown from a scattershot smattering of recognized sites of UGRR activity into a truly international network of 744 sites\, programs\, and research facilities. \nCollectively\, this vast network and the researchers behind it have profoundly expanded and transformed our collective understanding of the multi-generational\, multi-racial\, multi-national efforts to resist the institution of slavery through flight and escape. \nTo kick off this silver year\, the National Park Service and Network to Freedom staff will host a celebratory event\, featuring seminars\, guests and a film festival on Friday\, July 21\, at one of the crown jewels within the Network to Freedom\, the recently opened\, 10\,000-square-foot Harriet Tubman Underground Railroad Visitor Center on the grounds of Harriet Tubman State Park near Cambridge\, MD. \nStephanie Gilbert licensed her research to be used to certify Network to Freedom sites: \n\nMoses Cartland’s Home in Lee\, New Hampshire\nThaddeus Stevens’ Office in Lancaster\, Pennsylvania\n\nGilbert research was also used to recently secure Network to Freedom grant funding for Howard County (Maryland) Historical Society to erect a monument. \nStephanie Gilbert is scheduled to attend the 25th Anniversary celebration of the US National Parks’ Service Network to Freedom and will follow with a demisemiseptcentennial recreation of the escape of Oliver Cromwell Kelly (Gilbert) on August 20\, 2023\, tracing his Underground Railroad journey from Maryland to Pennsylvania\, following in his footsteps as outlined in his autobiography and using the directions provided to him by ‘Mr. Fisher’\, the UGRR operative in the Ellicott City (Ellicott Mills at the time) area.
URL:https://ocgilbert.com/event/ugrr-network-to-freedom-silver-jubilee/
LOCATION:PA
ATTACH;FMTTYPE=image/jpeg:https://ocgilbert.com/wp-content/uploads/2023/07/Margaret-Gassaway-Watkins-Warfield-1.jpg
END:VEVENT
BEGIN:VEVENT
DTSTART;VALUE=DATE:20230615
DTEND;VALUE=DATE:20230616
DTSTAMP:20260424T141853
CREATED:20230509T205504Z
LAST-MODIFIED:20230804T142816Z
UID:1058-1686787200-1686873599@ocgilbert.com
SUMMARY:Belmont Mansion Juneteenth Celebration
DESCRIPTION:Stephanie Gilbert will share the history of how she came to possess the unpublished memoir of her 2nd great grandfather\, who’d escaped slavery at the age of 16 and settled in Philadelphia. The narrative includes step by step detail of Oliver Gilbert’s experience on the Underground Railroad\, inclusive of his flight to Pennsylvania and Philadelphia’s abolitionist community. The Philadelphia story is prominent in the Memoir of Oliver Cromwell Gilbert\, who became a politician\, social activist\, lecturer and musician. This hidden figure is now coming to light and will make his first Philadelphia 21st century debut at the Belmont Mansion in celebration of Juneteenth.
URL:https://ocgilbert.com/event/belmont-mansion/
LOCATION:PA
ATTACH;FMTTYPE=image/png:https://ocgilbert.com/wp-content/uploads/2023/04/OC-Gilbert.png
END:VEVENT
BEGIN:VEVENT
DTSTART;TZID=America/New_York:20230513T100000
DTEND;TZID=America/New_York:20230513T100000
DTSTAMP:20260424T141853
CREATED:20230509T183324Z
LAST-MODIFIED:20230804T154837Z
UID:870-1683972000-1683972000@ocgilbert.com
SUMMARY:Birthday Memorial Tribute at the Grave of Alexander Manly
DESCRIPTION:Alexander (or Alex) Lightfoot Manly ( May 13\, 1866– October 5\, 1944) was an newspaper owner and editor who lived in Wilmongton\, North Caolina. \nWith his brother\, Frank G. Manly\, as co-owner\, he published the Daily Record\, the state’s only daily African-American newspaper and possibly the nation’s only black-owned daily newspaper. At the time\, the port of Wilmington had 10\,000 residents and was the state’s largest city; its population was majority black\, with a rising middle class. \nIn August 1898 Manly published a controversial editorial objecting to stereotypes of black men as rapists of white women. He had earlier responded to a Rebecca Latimer Felton in Georgia who wrote about African-American males having relationships with white women. At the time\, white Democrats were inflaming racial tensions and promoting white supremacy in a bid to regain power in the state legislature. \nWhen biracial fusionist candidates were elected to Wilmington’s mayor and council\, a secret committee of Democrats conducted the only successful coup d’état in United States history\, now known as the Wilmington Insurrection of 1898\, and overturned the city government. They also ran the Manly brothers out of town\, threatening their lives; a large mob destroyed the printing press and burned down the newspaper offices; out of control\, it also attacked black neighborhoods\, killing an estimated 30-100 people and destroying much of what freedmen had built in the city. \nThe Manly brothers were among the 2\,100 blacks who permanently moved out of Wilmington after the riot\, resulting in its becoming a majority-white city. The brothers moved briefly to Washington\, D.C \nAlex married Caroline Sadgwar at his house. He and his wife then moved to Philadelphia\, where they then raised a family. Alex Manly remained politically active\, co-founding The Armstrong Association\, a precursor to the National Urban League\, and was a member of the African-American newspaper council. \nThe Manlys had two sons born in Philadelphia: Milo and Lewin. The former became an activist and fought for black property rights in Wilmington; he later became executive director of the Pennsylvania Human Relations Commission. \nAlex Manly’s son\, Milo\, married Mary Gilbert\, who was one of the original founders of Jack and Jill of America’s Inc. As such\, Milo was one of the first Jack and Jill dads with their dughter\, Patsy (Patricia) as one of the very first Jills of the organization.
URL:https://ocgilbert.com/event/birthday-memorial-tribute-at-the-grave-of-alexander-manly/
LOCATION:PA
ATTACH;FMTTYPE=image/jpeg:https://ocgilbert.com/wp-content/uploads/2023/05/Alexander_Manly_Daily_Record.jpg
END:VEVENT
BEGIN:VEVENT
DTSTART;VALUE=DATE:20221030
DTEND;VALUE=DATE:20221031
DTSTAMP:20260424T141853
CREATED:20230509T205726Z
LAST-MODIFIED:20230804T155950Z
UID:1059-1667088000-1667174399@ocgilbert.com
SUMMARY:Walking Tour of Eden Cemetery
DESCRIPTION:Historic Eden cemetery\, American’s first privately held African American burial ground\, is located just outside of Philadelphia and is home to the remains of more than 90\,000 ancestors. \nIn July 2008\, vandals toppled over 200 headstones in the cemetery\, including that of Octavius Valentine Catto\, one of the most famous burials at Eden Cemetery.[10] \nHistory of Eden: Jerome Bacon\, an instructor at the Institute for Colored Youth (now Cheynew University) led efforts to create a cemetery for African-Americans who had been buried in cemeteries in Philadelphia that were being condemned by the city in the early 20th century. The cemeteries included Lebanon Cemetery (condemned in 1899 – closed in 1903)\, the Olive Graveyard (closed in 1923)\, the Stephen Smith Home for the Aged and Infirm Colored Person’s Burial Ground and the First African Baptist Church Burial Grounds. \nThe bodies buried in these cemeteries were disinterred and re-interred at Eden Cemetery. The oldest reburial in the cemetery is from 1721. \nAfter litigation from Collingdale\, Pennsylvania opposing the creation of an African-American cemetery in the township\, a charter for the creation of Eden Cemetery was granted on June 20\, 1902. Fifty-three acres of land previously part of Bartram Farms were selected for the creation of the cemetery. \nIn 2010\, Eden Cemetery was listed on the National Register of Historic Places.
URL:https://ocgilbert.com/event/walking-tour-of-eden-cemetery/
LOCATION:PA
ATTACH;FMTTYPE=image/jpeg:https://ocgilbert.com/wp-content/uploads/2023/05/Octavius_Catto_grave.jpg
END:VEVENT
END:VCALENDAR